Workbook

Sheet Outcomes
A1: Environmental Education Grants Program: sample workplan This sample workplan provides tips on how to complete the workplan section in your application. If your application is funded, your workplan will be an important tool for tracking and communicating the progress and impact of your project. It will also underpin the payment and reporting schedule in your funding agreement. The workplan contains 4 tabs. Information entered in the schedule tab will copy across to the measures and budget tabs. To make it easier for you to work with, we have provided limited information about project activities to show how the activities, measures and budget relate to each other. We recommend including at least 8–10 activities per milestone. As a Tier 2 grant, this project would need to have at least 3 milestones over at least 3 years. | F1: #VALUE!
A4: Workplan Outcomes | E4: 2026/ED2/00XX
A7: Project Title: Sample Workplan
D12: Outcome Name | E12: Outcome Description
C13: 1 | D13: Outcome 1 | E13: By the end of this project, 7 hectares of Lower Hunter Valley Dry Rainforest remnants in the Smith's Creek area will have been protected and restored. Remnant patches on 25 properties in 3 priority ecological corridors will have been expanded and new Rainforest vegetation established, and these will have been protected by buffer zones where weeds are actively monitored and controlled. monitoring. Project evaluation will occur annually, and adaptive management will be implemented where needed. | F13: Tip - Your outcome statements should describe what success will look like by the end of the project. Apply the 'SMART' principles - Specific, Measurable, Achievable, Realistic, Timebound (within the timeframes of this project). Think about what will tell you that your project has been successful.
C14: 2 | D14: Outcome 2 | E14: By the end of the project, 25 landholders and community volunteers will have been trained in how to identify rainforest species, maintain plantings, and reduce threats. To strengthen local conservation, 25 new volunteers will have been recruited across three Bushcare and Landcare groups and provided with training and accessible online resources for ongoing support. | F14: Tip: See 'How to design and develop your project guide' for help and more examples of what makes a good outcome statement. You must be able to measure it. Note these example outcomes are linked to the Trust's Strategic Plan priority theme 'Increase land managers’ capacity to improve environmental outcomes and natural resource management practices.'

Sheet Schedule
A1: This is a sample workplan showing the first 2 milestones of a project only. A milestone is generally around 12 months, so a Tier 2 project would need 3 milestones. We recommend including at least 8–10 activities per milestone.
B4: Workplan Schedule | E4: 2026/ED2R/00XX
I7: Tip: Each milestone should be 6 to 12 months in duration, The whole project should be a minimum of 2 years for Tier 1, and 3 years for Tier 2. You can make changes to your workplan prior to signing a funding agreement. In this example the first milestone report will be due on 31/07/2028. You will submit a report at the end of each milestone that an independent reviewer will read, and they will recommend release of the next instalment if progress has been satisfactory.
C8: Project Title | D8: SAMPLE WORKPLAN
I11: Tip: Consider end of financial year implications for your organisation, and the availability of your finance staff to help you with financial reporting. Milestones do not need to be linked to a financial year. You can factor in extra time if needed.
C12: 1 | D12: Milestone 1 | F12: Start Date | G12: Finish Date
E13: Planned | F13: 01/08/2027 | G13: 31/07/2028
I14: You can download a copy of your workplan in excel using the 'preview' button, and give collaborators read or edit access to your application.
C15: 1 | D15: Review workplan, engage contractors, recruit project officer. Set up mechanisms for working with project partners Forestland City Council, DCCEEW, LLS, Bushcare and Landcare groups and Elders. Establish steering committee. Budget includes project officer salary for Milestone 1, social research | I15: Tip: Start by outlining how you will engage staff for the project. This will help you when you get to the project measures and budget sections, and it also demonstrates that merit selection principles will be applied in line with the program guidelines.
C16: 2 | D16: Work with collaborators to develop a communications plan with key messages for each of our 2 target audiences, work with Aboriginal artist to design artwork. Use local print and radio media, websites, social media to promote pilot Rewilding working bee, including through project partner media units and networks. Work with DCCEEW on survey design and delivery. | I16: Tip: Describe how you will implement your activities. The Grants Management System (GMS) allows 500 characters per activity, but you can use abbreviations if you need more space. You do not need to use connective words like 'the' or 'if'. You can download a copy of your workplan in excel using the 'preview' button, and give collaborators read or edit access to your application.
C17: 3 | D17: Run pilot Rewilding working bee and 'Taste the Rainforest' event to test engagement strategies. Conduct simple before and after working bee surveys and obtain feedback, Engage min 5 landholders and 5 community to support us by providing input on content and design for the manual, rainforest restoration resources, and species selection tool. | I17: Tip: Integrate information from the Project Rationale questions into your workplan. Describe how you will implement the engagement strategies you identified, and communicate key information that will help others understand your project design. Tip - Include field testing in milestone 1 and seek target audience feedback. Consider any social research you might need to to improve your understanding of the needs of your target audience, and what strategies will resonate with them. Include engaging, creative ideas for community engagement activities to generate interest.
C18: 4 | D18: Develop draft online manual, rainforest restoration resources and species selection tool. Seek feedback on the drafts from both target audiences and project partners. Arrange publication of the final versions. Evaluate data gathered from landholders | I18: Tip: Integrate monitoring and evaluation strategies into your project activities. Show us how you will monitor your progress to ensure the project stays on track. This also tells us about the evidence we can expect to see provided with your milestone reports that will demonstrate the impact and progress of your work.
C19: 5 | D19: Seek EOIs for 20 new landholders to commence work in milestone 2. Work with collaborators to select and prioritise participants. Sign land management agreements. Map locations, set up photo points, gather soil samples and baseline data. (Council and TAFE students to help) | I19: Tip: Gather baseline data at the start of your project. This is critical for demonstrating the impact of your project on the environment, as well as on your target audience behaviour. End each milestone with monitoring and evaluation. Consider how you can move beyond 'raising knowledge and awareness', and drive changes in behaviours and systems that result in measurable on-ground outcomes.
C20: Tip: For the purposes of the sample workplan, we have included only 5 activities for milestone 1. A quality workplan will have at least 8 to 10 activities for each milestone. Activities should clearly demonstrate how you will implement the project concept you developed under 'Project rationale.' You will need to submit a report at the end of each milestone with evidence of the work completed. This will be independently reviewed prior to release of payment for the next milestone. Note that we have not entered any data for milestone 2 of this project We have only set up 2 milestones to demonstrate key elements of a successful workplan.
C24: 3 | D24: Milestone 3 | F24: Start Date | G24: Finish Date
E25: Planned | F25: 01/08/2029 | G25: 31/07/2030
C27: 1 | D27: Project officer costs for milestone 3. Engage contractor to assist with online publication of the the online manual and species selection tool. Obtain data on number of 'hits' after 6 months. Develop systems for collaborators to keep resources up to date. | I27: Note - for the purposes of this example we skipped milestone 2. Tier 2 projects require at least 3 milestones over 3 years. Following completion of field testing and social research in milestone 1, education is reviewed, refined, upscaled and rolled out more broadly for the rest of the project.
C28: 2 | D28: Capture, publish and promote landholder stories and success stories as case studies (5). Produce video from 'Chocolate and Coffee lovers go bush' walk, and landholder interviews to be published on You Tube promoting the importance of buffer zones for Rainforest remnants. | I28: Tip - Consider the 'legacy' of your project. What do your project partners need to keep building on project outcomes after the project concludes, and to continue community engagement? How will this project set you up for future success? Consider how resources you develop will be kept up to date after the project is finished.
C29: 3 | D29: Hold a Rewilding Forestland Festival and monthly Rewilding working bees with fun themes (10). Visit participating landholders (25) to provide tailored advice on protecting remnants on their properties. Provide draft management plans for each property to guide post-project maintenance. Connect them with local experts and volunteers across 3 networks. | I29: Tip - Think about ways to support sustained behaviour change in your target audience after the project concludes. E.g., establishing support networks, communities of practice.
C30: 4 | D30: Reconnect with all landholders including those on the pilot program. Ask the same survey questions to compare responses with the benchmark responses, and establish if sustained behaviour change has occurred. Obtain end of project data from monitoring. Submit final report to Trust | I30: Tip - Integrate end of project evaluation into your plan, and gather data showing the extent to which you achieved your project outcomes. This includes demonstrating on-ground impacts of your work. Allow time for certification of grant expenditure. In this example the final report would be due by 31/07/30. You can always submit a report early if you finish early, but extensions will require you to seek a variation.

Sheet Measures
A1: This is a sample workplan showing the first 2 milestones of a project only. A milestone is generally around 12 months, so a Tier 2 project would need 3 milestones. We recommend including at least 8–10 activities per milestone.
B3: Workplan Measures | E3: 2026/ED2/00XX
C7: Project Title | D7: SAMPLE WORKPLAN
C11: 1 | D11: =Schedule!D12 -> Milestone 1
C13: 1 | D13: =Schedule!D15 -> Review workplan, engage contractors, recruit project officer. Set up mechanisms for working with project partners Forestland City Council, DCCEEW, LLS, Bushcare and Landcare groups and Elders. Establish steering committee. Budget includes project officer salary for Milestone 1, social research
C14: Activity type | D14: Managing and delivering the project* | J14: Tip - Start each milestone with the activity type 'Project management and delivery….' and calculate all the human resources you'll need to complete this milestone i.e., total grant funded and in-kind hours.
D16: Measure | E16: Expected Output | G16: Unit
D17: Number of full time equivalent grant funded staff | E17: 1 | G17: Number | J17: Note - 'Project management and delivery….' is one of the mandatory activity types.
D18: Number of grant funded staff hours | E18: 884 | G18: Number
D19: Number of grant funded consultants/contractors (number of organisations) | E19: 6 | G19: Number
D20: Number of hours (grant funded consultants/contractors) | E20: 30 | G20: Number
D21: Number of non grant funded staff | E21: 5 | G21: Number
D22: Number of volunteers | E22: 6 | G22: Number
C25: 2 | D25: =Schedule!D16 -> Work with collaborators to develop a communications plan with key messages for each of our 2 target audiences, work with Aboriginal artist to design artwork. Use local print and radio media, websites, social media to promote pilot Rewilding working bee, including through project partner media units and networks. Work with DCCEEW on survey design and delivery. | J25: Note - 'Organisations collaborating' is a mandatory activity type to demonstrate who project partners are. This is important if you have any staff changes during the project.
C26: Activity type | D26: Organisations collaborating | J26: Tip - Each activity type will give you a different 'menu' of measures. Choose the one that best fits the activity to demonstrate its impact. You can come back and change the activity type at any time.
D28: Measure | E28: Expected Output | G28: Unit
D29: External organisations actively collaborating (community, government or business) | E29: DCCEEW, LLS, Forestland City Council, LLS 3x Bushcare and Landcare groups, TAFE students | G29: Free text
C32: 3 | D32: =Schedule!D17 -> Run pilot Rewilding working bee and 'Taste the Rainforest' event to test engagement strategies. Conduct simple before and after working bee surveys and obtain feedback, Engage min 5 landholders and 5 community to support us by providing input on content and design for the manual, rainforest restoration resources, and species selection tool.
C33: Activity type | D33: Target audience and behaviour change actions | J33: Note - 'Target audience and behaviour change actions' is a mandatory activity type to describe who will take action, and what behaviour change will look like. This will demonstrate how your project has been targeted, establishing a link between your education and a tangible environmental outcome. This should be an important focus for your milestone reports.
D35: Measure | E35: Expected Output | G35: Unit
D36: Describe the target audience for this project | E36: 1. Landholders in the 7 hectare target area (target 25), 2. new community volunteers (target 20) | G36: Free Text
D37: What behaviours/practices will change as a result of this project? | E37: People taking action to protect Rainforest species through weeding, planting and on-ground works | G37: Free Text | J37: Our targets in milestone 1 are 5 landholders and 5 new Landcare members recruited (and they will provide input to educational materials). These are our key measures as they directly relate to what we said in our Project Outcomes. Other volunteers are counted in Activity 1. (We could also have chosen an activity description of 'Events held' for the Taste the Rainforest event, to capture our target of 20 participants, but the target audience was more important)
D38: No. of individuals / organisations taking positive environmental action | E38: 10 | G38: Number
C42: 4 | D42: =Schedule!D18 -> Develop draft online manual, rainforest restoration resources and species selection tool. Seek feedback on the drafts from both target audiences and project partners. Arrange publication of the final versions. Evaluate data gathered from landholders
C43: Activity type | D43: Educational resources developed
D45: Measure | E45: Expected Output | G45: Unit
D46: Type of resources (e.g. fact sheets, videos, handbooks, websites etc) | E46: 1x online manual, 1x plant selection tool | G46: Free text
D47: No. developed and implemented | E47: 2 | G47: Number
C50: 5 | D50: =Schedule!D19 -> Seek EOIs for 20 new landholders to commence work in milestone 2. Work with collaborators to select and prioritise participants. Sign land management agreements. Map locations, set up photo points, gather soil samples and baseline data. (Council and TAFE students to help)
C51: Activity type | D51: Organisations collaborating
J52: Tip - You can use the free text to describe how project collaborators will participate in the activity
D53: Measure | E53: Expected Output | G53: Unit
D54: External organisations actively collaborating (community, government or business) | E54: DCCEEW, Forestland City Council, LLS, (selection of EOI's), 3x Bushcare and Landcare groups, TAFE students | G54: Free text
C56: Note that we are skipping milestone 2 for the purposes of this example
C59: 3 | D59: =Schedule!D24 -> Milestone 3
C61: 1 | D61: =Schedule!D27 -> Project officer costs for milestone 3. Engage contractor to assist with online publication of the the online manual and species selection tool. Obtain data on number of 'hits' after 6 months. Develop systems for collaborators to keep resources up to date.
C62: Activity type | D62: Managing and delivering the project * | J62: Tip - Start all milestones with the activity type "Project management and delivery…." and calculate the human resources you'll need to complete this milestone.
D64: Measure | E64: Expected Output | G64: Unit
D65: Number of full time equivalent grant funded staff | E65: 1 | G65: Number
D66: Number of grant funded staff hours | E66: 884 | G66: Number
...

Sheet Budget
A1: This is a sample workplan showing the first 2 milestones of a project only. A milestone is generally around 12 months, so a Tier 2 project would need 3 milestones. We recommend including at least 8–10 activities per milestone.
B3: Workplan Budget | F3: 2026/ED2/00XX
D7: Project Title SAMPLE WORKPLAN
E10: Project Total
F11: Planned
F12: Grant | G12: Cash | H12: In-Kind | I12: Total
E13: Project Total | F13: =F48 -> 229042 | G13: =G48 -> 12000 | H13: =H48 -> 109200 | I13: =I48 -> 350242
A16: Tip - Do not include cents in your budget, round up to the nearest dollar. Factor in salary increases, CPI adjustments, and realistic travel costs for work in remote locations.
C19: 1 | D19: =Schedule!D12 -> Milestone 1
F20: Planned
D21: Activities | E21: Budget Description | F21: Grant | G21: Cash | H21: In-Kind | I21: Total
C22: 1 | D22: =Schedule!D15 -> Review workplan, engage contractors, recruit project officer. Set up mechanisms for working with project partners Forestland City Council, DCCEEW, LLS, Bushcare and Landcare groups and Elders. Establish steering committee. Budget includes project officer salary for Milestone 1, social research | E22: GRANT: Project officer costs for Milestone 1 ($70 per hour ) - 17 hrs/wk total 884 hrs $61,880, salary on-costs 26.5% (super, leave, payroll tax etc) total $16,398) Recruitment advertising $500. Elders x 2 $500 each IN KIND: DCCEEW 120 hrs @ average $80/hr, ($9,600) LLS 60 hrs ($4,800), Council 50 hrs @ average $70/hr ($3,500), 8 volunteers local Landcare and Bushcare groups 20 hrs @ $40 each ($6,400), 5 TAFE students 100 hrs @ $40/hr ($20,000) | F22: 77778 | G22: 0 | H22: 44300 | I22: =SUM(F22:H22) -> 122078 | K22: Note - * Grant funds are those provided by the Trust through the grant. * Cash is funding provided by the grantee, collaborators or any third parties. * In-kind is the value of contributions to the project which are not funded by the grant (e.g. collaborator time contributed to the project covered by their employer). Tip - To make budgeting easier, include all your human resources costs in Activity 1. You do not need to break down time spent working on each activity. Tip - In your budget descriptions, use headings to clarify what Trust funds will be used for, and to describe the source of any external funding. Provide enough detail to make it clear how grant funds will be spent.
C23: 2 | D23: =Schedule!D16 -> Work with collaborators to develop a communications plan with key messages for each of our 2 target audiences, work with Aboriginal artist to design artwork. Use local print and radio media, websites, social media to promote pilot Rewilding working bee, including through project partner media units and networks. Work with DCCEEW on survey design and delivery. | E23: GRANT: Aboriginal artist $3,000. Advertising $1,000. software licence $300. (Project officer costs factored in to activity 1). CASH CONTRIBUTION: Consumables for working bee $2,000 funded by Forestland Council & DCCEEW (half each) IN KIND: Forestland Council and DCCEW staff time factored in to activity 1 | F23: 4300 | G23: 2000 | H23: 0 | I23: =SUM(F23:H23) -> 6300
C24: 3 | D24: =Schedule!D17 -> Run pilot Rewilding working bee and 'Taste the Rainforest' event to test engagement strategies. Conduct simple before and after working bee surveys and obtain feedback, Engage min 5 landholders and 5 community to support us by providing input on content and design for the manual, rainforest restoration resources, and species selection tool. | E24: GRANT: Travel and accommodation costs 3 staff $300 pp per day 2 nights ($1,800). Consumables/materials, site costs ($1000), Project officer salary factored in to Activity 1. IN KIND: Use of Council machiney $1,000, University of Newcastle advice $500 | F24: 2800 | G24: 0 | H24: 1500 | I24: =SUM(F24:H24) -> 4300 | K24: Tip - Ensure your budget clarifies who will be providing any cash contributions to the project. Have they identified this commitment in their letter of support? Note - Under this proposed budget, the first instalment of the grant will be $95,528, and it will be paid at the beginning of milestone 1. This is less than 50% of the grant in line with program guidelines. You can propose budget adjustments for Trust approval prior to signing a funding agreement).
C25: 4 | D25: =Schedule!D18 -> Develop draft online manual, rainforest restoration resources and species selection tool. Seek feedback on the drafts from both target audiences and project partners. Arrange publication of the final versions. Evaluate data gathered from landholders | E25: GRANT: Publication costs for printed copies x 10 $500: Project Officer costs factored in at Activity 1. IN KIND: University of Newcastle advice $500, DCCEEW time factored in at Activity 1. | F25: 500 | G25: 0 | H25: 500 | I25: =SUM(F25:H25) -> 1000
C26: 5 | D26: =Schedule!D19 -> Seek EOIs for 20 new landholders to commence work in milestone 2. Work with collaborators to select and prioritise participants. Sign land management agreements. Map locations, set up photo points, gather soil samples and baseline data. (Council and TAFE students to help) | E26: GRANT: Project Officer costs factored in at activity 1. Soil biological analysis Uni Newcastle 25 samples @ $260 each ($6,500). Star pickets $1,150, materials for signage for 25 properties ($2,500) IN KIND: landholder site preperation costs $500 each) DCCEEW use of drones, drone operator, time factored in to activity 1, along with TAFE student time) | F26: 10150 | G26: 0 | H26: 12500 | I26: =SUM(F26:H26) -> 22650
D28: Milestone Total | E28: Milestone Total | F28: =SUM(F22:F26) -> 95528 | G28: =SUM(G22:G26) -> 2000 | H28: =SUM(H22:H26) -> 58800 | I28: =SUM(I22:I26) -> 156328
B31: Note that we skipped milestone 2 for the purposes of this example
C34: 3 | D34: =Schedule!D24 -> Milestone 3
F35: Planned
F36: Grant | G36: Cash | H36: In-Kind | I36: Total
C37: 1 | D37: =Schedule!D27 -> Project officer costs for milestone 3. Engage contractor to assist with online publication of the the online manual and species selection tool. Obtain data on number of 'hits' after 6 months. Develop systems for collaborators to keep resources up to date. | E37: GRANT: Proj Officer 17 hrs/pw, total 884 hrs @ 72 per hour (allowing for salary increases), total $63,648. Salary oncosts 26.5% ($16,866), IT contractor 60 hours @ $100/pr ($6,000) IN KIND: DCCEEW 120 hrs @ average $80/hr, ($9,600) LLS 60 hrs ($4,800), Council 50 hrs @ average $70/hr ($3,500), | F37: 86514 | G37: 0 | H37: 17900 | I37: =SUM(F37:H37) -> 104414 | K37: Tip - Identify the salary rate and factor in any salary rises you expect over the life of the project Make sure the hours entered here match what you put in the project measures.
C38: 2 | D38: =Schedule!D28 -> Capture, publish and promote landholder stories and success stories as case studies (5). Produce video from 'Chocolate and Coffee lovers go bush' walk, and landholder interviews to be published on You Tube promoting the importance of buffer zones for Rainforest remnants. | E38: GRANT: videographer $9,000 to help prepare 6 videos, catering $200, Project officer time factored in to activity 1. IN KIND: DCCEEW staff time factored in to Activity 1 | F38: 9200 | G38: 0 | H38: 0 | I38: =SUM(F38:H38) -> 9200
C39: 3 | D39: =Schedule!D29 -> Hold a Rewilding Forestland Festival and monthly Rewilding working bees with fun themes (10). Visit participating landholders (25) to provide tailored advice on protecting remnants on their properties. Provide draft management plans for each property to guide post-project maintenance. Connect them with local experts and volunteers across 3 networks. | E39: GRANT: Consumables (herbicide, tree guards, tubestock etc), 10x monhtly working bees $1,000 each ($10,000) Exclusion fencing materials $1,000 per property ($25,000), Welcome to Country for Festival $800, travel and accommodation 2 speakers $300 each Project Officer costs factored in to activity 1. CASH CONTRIBUTION: Contribution towards fencing costs DCCEEW $10,000, IN KIND: Landholder and volunteer labour for fencing, planting etc 10 working bees $40/hour | F39: 36300 | G39: 10000 | H39: 32000 | I39: =SUM(F39:H39) -> 78300
C40: 4 | D40: =Schedule!D30 -> Reconnect with all landholders including those on the pilot program. Ask the same survey questions to compare responses with the benchmark responses, and establish if sustained behaviour change has occurred. Obtain end of project data from monitoring. Submit final report to Trust | E40: GRANT: Accountant for Independent certification of project expenditure $1,500. Project officer time milestone 2 activity 1. IN KIND: Forestland Council to provide drone images 25 properties | F40: 1500 | G40: 0 | H40: 500 | I40: =SUM(F40:H40) -> 2000 | K40: Note - Under this proposed budget, the final instalment of the grant will be $133,514. The total grant will be $229,042.
D42: Milestone Total | E42: Milestone Total | F42: =SUM(F37:F40) -> 133514 | G42: =SUM(G37:G40) -> 10000 | H42: =SUM(H37:H40) -> 50400 | I42: =SUM(I37:I40) -> 193914
D45: Project Total | E45: Project Total
F46: Planned
F47: Grant | G47: Cash | H47: In-Kind | I47: Total
D48: Project Total | E48: Project Total | F48: =SUM(F28,F42) -> 229042 | G48: =SUM(G28,G42) -> 12000 | H48: =SUM(H28,H42) -> 109200 | I48: =SUM(I28,I42) -> 350242
E50: Tip - Use the 'preview' button if you wish to download and share a copy of your workplan.
